BEGIN:VCALENDAR
VERSION:2.0
PRODID:-//Plone.org//NONSGML plone.app.event//EN
X-WR-TIMEZONE:Europe/Madrid
BEGIN:VEVENT
SUMMARY:Inscripcions al 7è Concurs de Microrelats de Terror
DTSTART;VALUE=DATE:20180924
DTEND;VALUE=DATE:20180925
DTSTAMP;VALUE=DATE-TIME:20260423T124820Z
UID:abaa25ff42644d0ba69f0068ffa690c8@www.molletvalles.cat
CATEGORIES:Concursos i premis
CREATED;VALUE=DATE-TIME:20180918T082916Z
LAST-MODIFIED;VALUE=DATE-TIME:20221222T031122Z
URL:https://www.molletvalles.cat/ca/actualitat/agenda/20020
END:VEVENT
END:VCALENDAR
