BEGIN:VCALENDAR
VERSION:2.0
PRODID:-//Plone.org//NONSGML plone.app.event//EN
X-WR-TIMEZONE:Europe/Madrid
BEGIN:VEVENT
SUMMARY:Inauguració de l'exposició "Mollet Art'18" i "Double Bind"
DTSTART;VALUE=DATE:20180928
DTEND;VALUE=DATE:20180929
DTSTAMP;VALUE=DATE-TIME:20260423T124652Z
UID:e4a9d27b988e44f0b2363c2c5d5d99b6@www.molletvalles.cat
CATEGORIES:Exposicions i fires
CREATED;VALUE=DATE-TIME:20180920T112746Z
LAST-MODIFIED;VALUE=DATE-TIME:20221222T031228Z
URL:https://www.molletvalles.cat/ca/actualitat/agenda/20036
END:VEVENT
END:VCALENDAR
