BEGIN:VCALENDAR
VERSION:2.0
PRODID:-//Plone.org//NONSGML plone.app.event//EN
X-WR-TIMEZONE:Europe/Madrid
BEGIN:VEVENT
SUMMARY:Actuació del grup vocal Estoc de Veus: "Notes de vins"
DTSTART;VALUE=DATE:20180929
DTEND;VALUE=DATE:20180930
DTSTAMP;VALUE=DATE-TIME:20260423T133649Z
UID:c872c48ae5e4401da490d8ab76a0e21b@www.molletvalles.cat
CATEGORIES:Música\, cinema i espectacles
CREATED;VALUE=DATE-TIME:20180924T114231Z
LAST-MODIFIED;VALUE=DATE-TIME:20221222T031341Z
URL:https://www.molletvalles.cat/ca/actualitat/agenda/20053
END:VEVENT
END:VCALENDAR
