BEGIN:VCALENDAR
VERSION:2.0
PRODID:-//Plone.org//NONSGML plone.app.event//EN
X-WR-TIMEZONE:Europe/Madrid
BEGIN:VEVENT
SUMMARY:Mercat solidari de venda d'articles de segona mà Adopta un amic
DTSTART;VALUE=DATE:20181027
DTEND;VALUE=DATE:20181028
DTSTAMP;VALUE=DATE-TIME:20260423T124543Z
UID:03f545191ad9430997b34223f02025bd@www.molletvalles.cat
CATEGORIES:Exposicions i fires
CREATED;VALUE=DATE-TIME:20180926T123645Z
LAST-MODIFIED;VALUE=DATE-TIME:20221222T031457Z
LOCATION:Rbla Balmes/Berenguer III\, 32-36
URL:https://www.molletvalles.cat/ca/actualitat/agenda/20073
END:VEVENT
END:VCALENDAR
