BEGIN:VCALENDAR
VERSION:2.0
PRODID:-//Plone.org//NONSGML plone.app.event//EN
X-WR-TIMEZONE:Europe/Madrid
BEGIN:VEVENT
SUMMARY:Assaig XXVI Diada Castellers de Mollet i Festa amb DJ
DTSTART;VALUE=DATE:20181026
DTEND;VALUE=DATE:20181027
DTSTAMP;VALUE=DATE-TIME:20260423T124820Z
UID:8b41343f87ce4709956ce0c02d2290bd@www.molletvalles.cat
CATEGORIES:Música\, cinema i espectacles
CREATED;VALUE=DATE-TIME:20180927T114134Z
LAST-MODIFIED;VALUE=DATE-TIME:20221222T031534Z
URL:https://www.molletvalles.cat/ca/actualitat/agenda/20086
END:VEVENT
END:VCALENDAR
