BEGIN:VCALENDAR
VERSION:2.0
PRODID:-//Plone.org//NONSGML plone.app.event//EN
X-WR-TIMEZONE:Europe/Madrid
BEGIN:VEVENT
SUMMARY: Dia Mundial de la Salut Mental: Programa especial "Posa’t les p
 iles"
DTSTART;VALUE=DATE:20181010
DTEND;VALUE=DATE:20181011
DTSTAMP;VALUE=DATE-TIME:20260423T124711Z
UID:115a289f6b684e0390c7df57b4e5f9f7@www.molletvalles.cat
CREATED;VALUE=DATE-TIME:20181003T111113Z
LAST-MODIFIED;VALUE=DATE-TIME:20221222T031600Z
LOCATION:Ràdio Mollet 96.3 FM 
URL:https://www.molletvalles.cat/ca/actualitat/agenda/20092
END:VEVENT
END:VCALENDAR
