BEGIN:VCALENDAR
VERSION:2.0
PRODID:-//Plone.org//NONSGML plone.app.event//EN
X-WR-TIMEZONE:Europe/Madrid
BEGIN:VEVENT
SUMMARY:II Gala de l’ADHEC
DTSTART;VALUE=DATE:20181024
DTEND;VALUE=DATE:20181025
DTSTAMP;VALUE=DATE-TIME:20260423T124422Z
UID:7483803edf4847a18c8d2476bf490883@www.molletvalles.cat
CATEGORIES:Actes diversos
CREATED;VALUE=DATE-TIME:20181004T073239Z
LAST-MODIFIED;VALUE=DATE-TIME:20221222T031647Z
URL:https://www.molletvalles.cat/ca/actualitat/agenda/20101
END:VEVENT
END:VCALENDAR
