BEGIN:VCALENDAR
VERSION:2.0
PRODID:-//Plone.org//NONSGML plone.app.event//EN
X-WR-TIMEZONE:Europe/Madrid
BEGIN:VEVENT
SUMMARY:Club de lectura infantil: Endrapallibres... Reload!
DTSTART;VALUE=DATE:20181116
DTEND;VALUE=DATE:20181117
DTSTAMP;VALUE=DATE-TIME:20260425T124252Z
UID:84fb2390e4ed470f8a335b9ab2189cf1@www.molletvalles.cat
CATEGORIES:Infantils
CREATED;VALUE=DATE-TIME:20181008T105512Z
LAST-MODIFIED;VALUE=DATE-TIME:20221222T031711Z
URL:https://www.molletvalles.cat/ca/actualitat/agenda/20112
END:VEVENT
END:VCALENDAR
