BEGIN:VCALENDAR
VERSION:2.0
PRODID:-//Plone.org//NONSGML plone.app.event//EN
X-WR-TIMEZONE:Europe/Madrid
BEGIN:VEVENT
SUMMARY:Dia mundial contra el Càncer de mama: Taula informativa
DTSTART;VALUE=DATE:20181021
DTEND;VALUE=DATE:20181022
DTSTAMP;VALUE=DATE-TIME:20260423T124855Z
UID:fa8597bb81cb43b88f9edc8f01fdf288@www.molletvalles.cat
CATEGORIES:Actes diversos
CREATED;VALUE=DATE-TIME:20181018T111105Z
LAST-MODIFIED;VALUE=DATE-TIME:20221222T031919Z
LOCATION:Pl. Catalunya
URL:https://www.molletvalles.cat/ca/actualitat/agenda/20147
END:VEVENT
END:VCALENDAR
