BEGIN:VCALENDAR
VERSION:2.0
PRODID:-//Plone.org//NONSGML plone.app.event//EN
X-WR-TIMEZONE:Europe/Madrid
BEGIN:VEVENT
SUMMARY:XIX edició del Cross de Can Vila
DTSTART;VALUE=DATE:20181106
DTEND;VALUE=DATE:20181107
DTSTAMP;VALUE=DATE-TIME:20260423T124309Z
UID:07959c45fb344b0e8311ba35277da301@www.molletvalles.cat
CATEGORIES:Esports
CREATED;VALUE=DATE-TIME:20181023T122520Z
LAST-MODIFIED;VALUE=DATE-TIME:20221222T032044Z
URL:https://www.molletvalles.cat/ca/actualitat/agenda/20165
END:VEVENT
END:VCALENDAR
