BEGIN:VCALENDAR
VERSION:2.0
PRODID:-//Plone.org//NONSGML plone.app.event//EN
X-WR-TIMEZONE:Europe/Madrid
BEGIN:VEVENT
SUMMARY:Exposició 75 anys Club Muntanyenc Mollet
DTSTART;VALUE=DATE:20181205
DTEND;VALUE=DATE:20181206
DTSTAMP;VALUE=DATE-TIME:20260423T124822Z
UID:d233498b47e54080bdf93b06ce079785@www.molletvalles.cat
CATEGORIES:Exposicions i fires
CREATED;VALUE=DATE-TIME:20181024T080833Z
LAST-MODIFIED;VALUE=DATE-TIME:20221222T032115Z
URL:https://www.molletvalles.cat/ca/actualitat/agenda/20172
END:VEVENT
END:VCALENDAR
