BEGIN:VCALENDAR
VERSION:2.0
PRODID:-//Plone.org//NONSGML plone.app.event//EN
X-WR-TIMEZONE:Europe/Madrid
BEGIN:VEVENT
SUMMARY:Arts i escena. Cinefòrum: "Ser y tener "de Nicolas Philibert (Fra
 nça\, 2002)
DTSTART;VALUE=DATE:20181111
DTEND;VALUE=DATE:20181112
DTSTAMP;VALUE=DATE-TIME:20260423T124457Z
UID:29198c80ec004cf480722682afc5f63d@www.molletvalles.cat
CATEGORIES:Música\, cinema i espectacles
CREATED;VALUE=DATE-TIME:20181025T074548Z
LAST-MODIFIED;VALUE=DATE-TIME:20221222T032142Z
URL:https://www.molletvalles.cat/ca/actualitat/agenda/20180
END:VEVENT
END:VCALENDAR
