BEGIN:VCALENDAR
VERSION:2.0
PRODID:-//Plone.org//NONSGML plone.app.event//EN
X-WR-TIMEZONE:Europe/Madrid
BEGIN:VEVENT
SUMMARY:Cinefòrum: "Hoy empieza todo"
DTSTART;VALUE=DATE:20181202
DTEND;VALUE=DATE:20181203
DTSTAMP;VALUE=DATE-TIME:20260423T124820Z
UID:94da9fc4fb394a3d884f2af6b4f2b471@www.molletvalles.cat
CATEGORIES:Música\, cinema i espectacles
CREATED;VALUE=DATE-TIME:20181025T102328Z
LAST-MODIFIED;VALUE=DATE-TIME:20221222T032206Z
URL:https://www.molletvalles.cat/ca/actualitat/agenda/20189
END:VEVENT
END:VCALENDAR
