BEGIN:VCALENDAR
VERSION:2.0
PRODID:-//Plone.org//NONSGML plone.app.event//EN
X-WR-TIMEZONE:Europe/Madrid
BEGIN:VEVENT
SUMMARY:“The Insect Circus” a càrrec de Cia. String Theatre
DTSTART;VALUE=DATE:20240413
DTEND;VALUE=DATE:20240415
DTSTAMP;VALUE=DATE-TIME:20260421T135745Z
UID:3bb78dd1e8b84919b7633d25be4bc1bb@www.molletvalles.cat
CATEGORIES:Arts escèniques,Infantil
CREATED;VALUE=DATE-TIME:20240404T104822Z
DESCRIPTION:MITMO 2024
LAST-MODIFIED;VALUE=DATE-TIME:20240410T093856Z
LOCATION:Plaça Catalunya
URL:https://www.molletvalles.cat/ca/actualitat/agenda/201cthe-insect-circu
 s201d-a-carrec-de-cia-string-theatre
END:VEVENT
END:VCALENDAR
