BEGIN:VCALENDAR
VERSION:2.0
PRODID:-//Plone.org//NONSGML plone.app.event//EN
X-WR-TIMEZONE:Europe/Madrid
BEGIN:VEVENT
SUMMARY:Inter/canvi 2018: Trobada general de col·leccionistes
DTSTART;VALUE=DATE:20181118
DTEND;VALUE=DATE:20181119
DTSTAMP;VALUE=DATE-TIME:20260423T142230Z
UID:647229f2e9f74ca888ccc01e73f20b45@www.molletvalles.cat
CATEGORIES:Exposicions i fires
CREATED;VALUE=DATE-TIME:20181029T134040Z
LAST-MODIFIED;VALUE=DATE-TIME:20221222T032248Z
LOCATION:Mercat Vell - Prat de la Riba
URL:https://www.molletvalles.cat/ca/actualitat/agenda/20200
END:VEVENT
END:VCALENDAR
