BEGIN:VCALENDAR
VERSION:2.0
PRODID:-//Plone.org//NONSGML plone.app.event//EN
X-WR-TIMEZONE:Europe/Madrid
BEGIN:VEVENT
SUMMARY:Ball de Saló
DTSTART;VALUE=DATE:20181117
DTEND;VALUE=DATE:20181118
DTSTAMP;VALUE=DATE-TIME:20260423T124544Z
UID:de32afbe340c4f4ba164f234b34701f5@www.molletvalles.cat
CATEGORIES:Música\, cinema i espectacles
CREATED;VALUE=DATE-TIME:20181106T081847Z
LAST-MODIFIED;VALUE=DATE-TIME:20221222T032323Z
URL:https://www.molletvalles.cat/ca/actualitat/agenda/20212
END:VEVENT
END:VCALENDAR
