BEGIN:VCALENDAR
VERSION:2.0
PRODID:-//Plone.org//NONSGML plone.app.event//EN
X-WR-TIMEZONE:Europe/Madrid
BEGIN:VEVENT
SUMMARY:Concert de Santa Cecília a càrrec de l'Associació Musical Pau C
 asals
DTSTART;VALUE=DATE:20181124
DTEND;VALUE=DATE:20181125
DTSTAMP;VALUE=DATE-TIME:20260423T124423Z
UID:c1ff3aca59b741089db80859d7420d5b@www.molletvalles.cat
CATEGORIES:Música\, cinema i espectacles
CREATED;VALUE=DATE-TIME:20181106T082923Z
LAST-MODIFIED;VALUE=DATE-TIME:20221222T032328Z
URL:https://www.molletvalles.cat/ca/actualitat/agenda/20213
END:VEVENT
END:VCALENDAR
