BEGIN:VCALENDAR
VERSION:2.0
PRODID:-//Plone.org//NONSGML plone.app.event//EN
X-WR-TIMEZONE:Europe/Madrid
BEGIN:VEVENT
SUMMARY:Patge Reial. Recollida de cartes als Reis Mags d’Orient
DTSTART;VALUE=DATE:20181222
DTEND;VALUE=DATE:20181223
DTSTAMP;VALUE=DATE-TIME:20260423T134935Z
UID:a1761842310f446c9451da2a6c062f81@www.molletvalles.cat
CATEGORIES:Actes diversos
CREATED;VALUE=DATE-TIME:20181106T123547Z
LAST-MODIFIED;VALUE=DATE-TIME:20221222T032344Z
LOCATION:Carrer Francesc Macià\, 70 (zona de vianants\, davant el local d
 e l'entitat)
URL:https://www.molletvalles.cat/ca/actualitat/agenda/20218
END:VEVENT
END:VCALENDAR
