BEGIN:VCALENDAR
VERSION:2.0
PRODID:-//Plone.org//NONSGML plone.app.event//EN
X-WR-TIMEZONE:Europe/Madrid
BEGIN:VEVENT
SUMMARY: Setmana Europea de Prevenció de Residus: Diversos tallers/jocs
DTSTART;VALUE=DATE:20181119
DTEND;VALUE=DATE:20181120
DTSTAMP;VALUE=DATE-TIME:20260423T124457Z
UID:6dd28fe19f7d40b1a6011b735a261969@www.molletvalles.cat
CATEGORIES:Cursos i tallers
CREATED;VALUE=DATE-TIME:20181115T100505Z
LAST-MODIFIED;VALUE=DATE-TIME:20221222T032505Z
URL:https://www.molletvalles.cat/ca/actualitat/agenda/20253
END:VEVENT
END:VCALENDAR
