BEGIN:VCALENDAR
VERSION:2.0
PRODID:-//Plone.org//NONSGML plone.app.event//EN
X-WR-TIMEZONE:Europe/Madrid
BEGIN:VEVENT
SUMMARY:Ball de la gent gran
DTSTART;VALUE=DATE:20190908
DTEND;VALUE=DATE:20190909
DTSTAMP;VALUE=DATE-TIME:20260423T133605Z
UID:0a992872bbbe4b46a1e36d4dcf017e53@www.molletvalles.cat
CATEGORIES:Música\, cinema i espectacles
CREATED;VALUE=DATE-TIME:20181126T120237Z
LAST-MODIFIED;VALUE=DATE-TIME:20221222T032824Z
URL:https://www.molletvalles.cat/ca/actualitat/agenda/20308
END:VEVENT
END:VCALENDAR
