BEGIN:VCALENDAR
VERSION:2.0
PRODID:-//Plone.org//NONSGML plone.app.event//EN
X-WR-TIMEZONE:Europe/Madrid
BEGIN:VEVENT
SUMMARY:Exposició de pessebre de goma-eva
DTSTART;VALUE=DATE:20181205
DTEND;VALUE=DATE:20181206
DTSTAMP;VALUE=DATE-TIME:20260423T124627Z
UID:1cdcb5e8e5ba4b1f9645f885755e9ddd@www.molletvalles.cat
CATEGORIES:Exposicions i fires
CREATED;VALUE=DATE-TIME:20181130T094544Z
LAST-MODIFIED;VALUE=DATE-TIME:20221222T032942Z
LOCATION:Local de l'Associació de Veïns (C/ Francesc Macià\, 70)
URL:https://www.molletvalles.cat/ca/actualitat/agenda/20334
END:VEVENT
END:VCALENDAR
