BEGIN:VCALENDAR
VERSION:2.0
PRODID:-//Plone.org//NONSGML plone.app.event//EN
X-WR-TIMEZONE:Europe/Madrid
BEGIN:VEVENT
SUMMARY:Xocolatada Popular (a benefici de La Marató de TV3)
DTSTART;VALUE=DATE:20181216
DTEND;VALUE=DATE:20181217
DTSTAMP;VALUE=DATE-TIME:20260421T172916Z
UID:50ebe073352740f9be1c38050f5e277c@www.molletvalles.cat
CATEGORIES:Festes populars
CREATED;VALUE=DATE-TIME:20181203T114311Z
LAST-MODIFIED;VALUE=DATE-TIME:20221222T033026Z
LOCATION:Plaça Catalunya
URL:https://www.molletvalles.cat/ca/actualitat/agenda/20345
END:VEVENT
END:VCALENDAR
