BEGIN:VCALENDAR
VERSION:2.0
PRODID:-//Plone.org//NONSGML plone.app.event//EN
X-WR-TIMEZONE:Europe/Madrid
BEGIN:VEVENT
SUMMARY:Festa Major de Sant Vicenç 2019: Cercavila del Ball de Diables de
  Mollet
DTSTART;VALUE=DATE:20190119
DTEND;VALUE=DATE:20190120
DTSTAMP;VALUE=DATE-TIME:20260423T124821Z
UID:84d25a027a5a463f97b2a2b3e53b3b11@www.molletvalles.cat
CATEGORIES:Festes populars
CREATED;VALUE=DATE-TIME:20190110T130823Z
LAST-MODIFIED;VALUE=DATE-TIME:20221222T033426Z
LOCATION:Rambla Nova amb Via Ronda
URL:https://www.molletvalles.cat/ca/actualitat/agenda/20430
END:VEVENT
END:VCALENDAR
