BEGIN:VCALENDAR
VERSION:2.0
PRODID:-//Plone.org//NONSGML plone.app.event//EN
X-WR-TIMEZONE:Europe/Madrid
BEGIN:VEVENT
SUMMARY:Exposicions en femení: Inauguració de l'exposició “Bruixes"
DTSTART;VALUE=DATE:20190111
DTEND;VALUE=DATE:20190112
DTSTAMP;VALUE=DATE-TIME:20260423T124651Z
UID:785c6fa207a64ef28b05957b10aa9ef5@www.molletvalles.cat
CATEGORIES:Exposicions i fires
CREATED;VALUE=DATE-TIME:20190110T133456Z
LAST-MODIFIED;VALUE=DATE-TIME:20221222T033449Z
URL:https://www.molletvalles.cat/ca/actualitat/agenda/20436
END:VEVENT
END:VCALENDAR
