BEGIN:VCALENDAR
VERSION:2.0
PRODID:-//Plone.org//NONSGML plone.app.event//EN
X-WR-TIMEZONE:Europe/Madrid
BEGIN:VEVENT
SUMMARY:Festa Major de Sant Vicenç 2019: XXVI Nit de l'Esport
DTSTART;VALUE=DATE:20190125
DTEND;VALUE=DATE:20190126
DTSTAMP;VALUE=DATE-TIME:20260423T124750Z
UID:8e75e02e127843cfabebd2d491939501@www.molletvalles.cat
CATEGORIES:Concursos i premis
CREATED;VALUE=DATE-TIME:20190110T143312Z
LAST-MODIFIED;VALUE=DATE-TIME:20221222T033531Z
URL:https://www.molletvalles.cat/ca/actualitat/agenda/20450
END:VEVENT
END:VCALENDAR
