BEGIN:VCALENDAR
VERSION:2.0
PRODID:-//Plone.org//NONSGML plone.app.event//EN
X-WR-TIMEZONE:Europe/Madrid
BEGIN:VEVENT
SUMMARY:Créixer en família: El viatge de Primària a Secundària a càrr
 ec de Toni Argent
DTSTART;VALUE=DATE:20190130
DTEND;VALUE=DATE:20190131
DTSTAMP;VALUE=DATE-TIME:20260423T133615Z
UID:7f82304c66a44d91a43d59106bbbb42a@www.molletvalles.cat
CATEGORIES:Conferències
CREATED;VALUE=DATE-TIME:20190116T080756Z
LAST-MODIFIED;VALUE=DATE-TIME:20221222T033653Z
URL:https://www.molletvalles.cat/ca/actualitat/agenda/20477
END:VEVENT
END:VCALENDAR
