BEGIN:VCALENDAR
VERSION:2.0
PRODID:-//Plone.org//NONSGML plone.app.event//EN
X-WR-TIMEZONE:Europe/Madrid
BEGIN:VEVENT
SUMMARY:Acapte de sang
DTSTART;VALUE=DATE:20190211
DTEND;VALUE=DATE:20190212
DTSTAMP;VALUE=DATE-TIME:20260423T124310Z
UID:15aee62e1c3c4bb084aba965c690d6f3@www.molletvalles.cat
CATEGORIES:Actes diversos
CREATED;VALUE=DATE-TIME:20190125T072128Z
LAST-MODIFIED;VALUE=DATE-TIME:20221222T033824Z
LOCATION:Hospital de Mollet (Ronda dels Pinetons\, 8) 
URL:https://www.molletvalles.cat/ca/actualitat/agenda/20497
END:VEVENT
END:VCALENDAR
