BEGIN:VCALENDAR
VERSION:2.0
PRODID:-//Plone.org//NONSGML plone.app.event//EN
X-WR-TIMEZONE:Europe/Madrid
BEGIN:VEVENT
SUMMARY:Presentació de l'equip ciclista junior del Club Ciclista Mollet
DTSTART;VALUE=DATE:20190216
DTEND;VALUE=DATE:20190217
DTSTAMP;VALUE=DATE-TIME:20260423T124743Z
UID:09e5ce396df0471d9408f782c4cecd88@www.molletvalles.cat
CATEGORIES:Esports
CREATED;VALUE=DATE-TIME:20190131T071644Z
LAST-MODIFIED;VALUE=DATE-TIME:20221222T033843Z
LOCATION:Hotel Ibis- Mollet del Vallès (C/ Nicaragua\, 5)
URL:https://www.molletvalles.cat/ca/actualitat/agenda/20501
END:VEVENT
END:VCALENDAR
