BEGIN:VCALENDAR
VERSION:2.0
PRODID:-//Plone.org//NONSGML plone.app.event//EN
X-WR-TIMEZONE:Europe/Madrid
BEGIN:VEVENT
SUMMARY:Teatre a la Fiveller: "El mal morir"\, una comèdia negra a càrre
 c de Fil Vermell
DTSTART;VALUE=DATE:20190210
DTEND;VALUE=DATE:20190211
DTSTAMP;VALUE=DATE-TIME:20260423T133605Z
UID:b0235e92bae94b1abb02e91a9002ef08@www.molletvalles.cat
CATEGORIES:Música\, cinema i espectacles
CREATED;VALUE=DATE-TIME:20190204T120042Z
LAST-MODIFIED;VALUE=DATE-TIME:20221222T034047Z
URL:https://www.molletvalles.cat/ca/actualitat/agenda/20542
END:VEVENT
END:VCALENDAR
