BEGIN:VCALENDAR
VERSION:2.0
PRODID:-//Plone.org//NONSGML plone.app.event//EN
X-WR-TIMEZONE:Europe/Madrid
BEGIN:VEVENT
SUMMARY:Diada d'inici de Temporada dels Castellers de Mollet
DTSTART;VALUE=DATE:20190317
DTEND;VALUE=DATE:20190318
DTSTAMP;VALUE=DATE-TIME:20260423T124711Z
UID:7fcc0e61ff8347e08edaa0172dafc593@www.molletvalles.cat
CATEGORIES:Música\, cinema i espectacles
CREATED;VALUE=DATE-TIME:20190207T084906Z
LAST-MODIFIED;VALUE=DATE-TIME:20221222T034144Z
LOCATION:Plaça Prat de la Riba
URL:https://www.molletvalles.cat/ca/actualitat/agenda/20562
END:VEVENT
END:VCALENDAR
