BEGIN:VCALENDAR
VERSION:2.0
PRODID:-//Plone.org//NONSGML plone.app.event//EN
X-WR-TIMEZONE:Europe/Madrid
BEGIN:VEVENT
SUMMARY:Carnaval 2019: Visita del Carnestoltes a les escoles amb Pep Calla
 u i els Pepsicolen
DTSTART;VALUE=DATE:20190226
DTEND;VALUE=DATE:20190227
DTSTAMP;VALUE=DATE-TIME:20260423T124608Z
UID:02bfe53036454312a2aace7abedb9c38@www.molletvalles.cat
CATEGORIES:Actes diversos
CREATED;VALUE=DATE-TIME:20190207T091214Z
LAST-MODIFIED;VALUE=DATE-TIME:20221222T034151Z
URL:https://www.molletvalles.cat/ca/actualitat/agenda/20564
END:VEVENT
END:VCALENDAR
