BEGIN:VCALENDAR
VERSION:2.0
PRODID:-//Plone.org//NONSGML plone.app.event//EN
X-WR-TIMEZONE:Europe/Madrid
BEGIN:VEVENT
SUMMARY:Mercadet de Col·leccionistes
DTSTART;VALUE=DATE:20191201
DTEND;VALUE=DATE:20191202
DTSTAMP;VALUE=DATE-TIME:20260423T124750Z
UID:dd751888f22843ccbd49f2b20ccbfffb@www.molletvalles.cat
CATEGORIES:Exposicions i fires
CREATED;VALUE=DATE-TIME:20190211T082712Z
LAST-MODIFIED;VALUE=DATE-TIME:20221222T034230Z
LOCATION:Rambla Fiveller\, Balmes i carrer Barcelona
URL:https://www.molletvalles.cat/ca/actualitat/agenda/20575
END:VEVENT
END:VCALENDAR
