BEGIN:VCALENDAR
VERSION:2.0
PRODID:-//Plone.org//NONSGML plone.app.event//EN
X-WR-TIMEZONE:Europe/Madrid
BEGIN:VEVENT
SUMMARY:Liceu a la fresca: "Tosca"\, de Giacomo Puccini
DTSTART;VALUE=DATE:20190628
DTEND;VALUE=DATE:20190629
DTSTAMP;VALUE=DATE-TIME:20260423T134935Z
UID:fc250c30410c4505877ffcc5d2415e74@www.molletvalles.cat
CATEGORIES:Música\, cinema i espectacles
CREATED;VALUE=DATE-TIME:20190215T084825Z
LAST-MODIFIED;VALUE=DATE-TIME:20221222T034446Z
LOCATION:Plaça Prat de la Riba
URL:https://www.molletvalles.cat/ca/actualitat/agenda/20608
END:VEVENT
END:VCALENDAR
