BEGIN:VCALENDAR
VERSION:2.0
PRODID:-//Plone.org//NONSGML plone.app.event//EN
X-WR-TIMEZONE:Europe/Madrid
BEGIN:VEVENT
SUMMARY:Programa de ràdio Posa't les piles. Taula rodona
DTSTART;VALUE=DATE:20190308
DTEND;VALUE=DATE:20190309
DTSTAMP;VALUE=DATE-TIME:20260423T124744Z
UID:ffb4f992974d4a59885730dd40a3c434@www.molletvalles.cat
CATEGORIES:Actes diversos
CREATED;VALUE=DATE-TIME:20190219T131756Z
LAST-MODIFIED;VALUE=DATE-TIME:20221222T034620Z
LOCATION:Radio Mollet
URL:https://www.molletvalles.cat/ca/actualitat/agenda/20630
END:VEVENT
END:VCALENDAR
