BEGIN:VCALENDAR
VERSION:2.0
PRODID:-//Plone.org//NONSGML plone.app.event//EN
X-WR-TIMEZONE:Europe/Madrid
BEGIN:VEVENT
SUMMARY:Concerts a la Fiveller: Electronic Music Experience amb Di BRAiN 
DTSTART;VALUE=DATE:20190223
DTEND;VALUE=DATE:20190224
DTSTAMP;VALUE=DATE-TIME:20260423T124712Z
UID:a9b98262cae84b639bfece1da24bb0b6@www.molletvalles.cat
CATEGORIES:Música\, cinema i espectacles
CREATED;VALUE=DATE-TIME:20190220T071418Z
LAST-MODIFIED;VALUE=DATE-TIME:20221222T034628Z
URL:https://www.molletvalles.cat/ca/actualitat/agenda/20633
END:VEVENT
END:VCALENDAR
