BEGIN:VCALENDAR
VERSION:2.0
PRODID:-//Plone.org//NONSGML plone.app.event//EN
X-WR-TIMEZONE:Europe/Madrid
BEGIN:VEVENT
SUMMARY:Xerrada: "Vientres de alquiler"
DTSTART;VALUE=DATE:20190321
DTEND;VALUE=DATE:20190322
DTSTAMP;VALUE=DATE-TIME:20260421T174438Z
UID:efcad74f96204213a24d4e37056e7052@www.molletvalles.cat
CATEGORIES:Conferències
CREATED;VALUE=DATE-TIME:20190222T081529Z
LAST-MODIFIED;VALUE=DATE-TIME:20221222T034702Z
URL:https://www.molletvalles.cat/ca/actualitat/agenda/20642
END:VEVENT
END:VCALENDAR
