BEGIN:VCALENDAR
VERSION:2.0
PRODID:-//Plone.org//NONSGML plone.app.event//EN
X-WR-TIMEZONE:Europe/Madrid
BEGIN:VEVENT
SUMMARY:Revetlla de Sant Joan
DTSTART;VALUE=DATE:20190623
DTEND;VALUE=DATE:20190624
DTSTAMP;VALUE=DATE-TIME:20260423T133718Z
UID:30c85b3bf12e46b1abf158ca24126a26@www.molletvalles.cat
CATEGORIES:Música\, cinema i espectacles
CREATED;VALUE=DATE-TIME:20190226T075142Z
LAST-MODIFIED;VALUE=DATE-TIME:20221222T034752Z
LOCATION:Pista exterior del Pavelló de Riera Seca
URL:https://www.molletvalles.cat/ca/actualitat/agenda/20658
END:VEVENT
END:VCALENDAR
