BEGIN:VCALENDAR
VERSION:2.0
PRODID:-//Plone.org//NONSGML plone.app.event//EN
X-WR-TIMEZONE:Europe/Madrid
BEGIN:VEVENT
SUMMARY:Exposició: "Rigoberta Menchú"
DTSTART;VALUE=DATE:20190426
DTEND;VALUE=DATE:20190427
DTSTAMP;VALUE=DATE-TIME:20260423T124652Z
UID:d520041cb03c47cbabad37c3e5917e0c@www.molletvalles.cat
CATEGORIES:Exposicions i fires
CREATED;VALUE=DATE-TIME:20190304T135030Z
LAST-MODIFIED;VALUE=DATE-TIME:20221222T034844Z
URL:https://www.molletvalles.cat/ca/actualitat/agenda/20676
END:VEVENT
END:VCALENDAR
