BEGIN:VCALENDAR
VERSION:2.0
PRODID:-//Plone.org//NONSGML plone.app.event//EN
X-WR-TIMEZONE:Europe/Madrid
BEGIN:VEVENT
SUMMARY:Lliga Escolar d'Escacs i XII Memorial Internacional Ezequiel Mart
 ín
DTSTART;VALUE=DATE:20190608
DTEND;VALUE=DATE:20190609
DTSTAMP;VALUE=DATE-TIME:20260423T124544Z
UID:6913223b906046daba826b5a775b72f4@www.molletvalles.cat
CATEGORIES:Esports
CREATED;VALUE=DATE-TIME:20190321T114508Z
LAST-MODIFIED;VALUE=DATE-TIME:20221222T035205Z
URL:https://www.molletvalles.cat/ca/actualitat/agenda/20730
END:VEVENT
END:VCALENDAR
