BEGIN:VCALENDAR
VERSION:2.0
PRODID:-//Plone.org//NONSGML plone.app.event//EN
X-WR-TIMEZONE:Europe/Madrid
BEGIN:VEVENT
SUMMARY:13a MITMO: Els Titelles visiten les escoles bressol
DTSTART;VALUE=DATE:20190403
DTEND;VALUE=DATE:20190404
DTSTAMP;VALUE=DATE-TIME:20260423T124651Z
UID:68147a45b8914b4094ddd31f7ea1c6ff@www.molletvalles.cat
CATEGORIES:Infantils
CREATED;VALUE=DATE-TIME:20190325T102532Z
LAST-MODIFIED;VALUE=DATE-TIME:20221222T035255Z
URL:https://www.molletvalles.cat/ca/actualitat/agenda/20742
END:VEVENT
END:VCALENDAR
