BEGIN:VCALENDAR
VERSION:2.0
PRODID:-//Plone.org//NONSGML plone.app.event//EN
X-WR-TIMEZONE:Europe/Madrid
BEGIN:VEVENT
SUMMARY:13a MITMO: El Mercat Municipal convida els Titelles
DTSTART;VALUE=DATE:20190306
DTEND;VALUE=DATE:20190307
DTSTAMP;VALUE=DATE-TIME:20260421T172916Z
UID:89e6f397f4444e21959e4dd38bd02b99@www.molletvalles.cat
CATEGORIES:Infantils
CREATED;VALUE=DATE-TIME:20190326T100606Z
LAST-MODIFIED;VALUE=DATE-TIME:20221222T035324Z
LOCATION:Mercat Municipal
URL:https://www.molletvalles.cat/ca/actualitat/agenda/20752
END:VEVENT
END:VCALENDAR
