BEGIN:VCALENDAR
VERSION:2.0
PRODID:-//Plone.org//NONSGML plone.app.event//EN
X-WR-TIMEZONE:Europe/Madrid
BEGIN:VEVENT
SUMMARY:Dinar d'Aniversari de l'Espai Sant Jordi
DTSTART;VALUE=DATE:20190427
DTEND;VALUE=DATE:20190428
DTSTAMP;VALUE=DATE-TIME:20260423T124402Z
UID:b3c4dd09174441f6b2829d8251ae86ba@www.molletvalles.cat
CATEGORIES:Actes diversos
CREATED;VALUE=DATE-TIME:20190327T133423Z
LAST-MODIFIED;VALUE=DATE-TIME:20221222T035404Z
URL:https://www.molletvalles.cat/ca/actualitat/agenda/20765
END:VEVENT
END:VCALENDAR
