BEGIN:VCALENDAR
VERSION:2.0
PRODID:-//Plone.org//NONSGML plone.app.event//EN
X-WR-TIMEZONE:Europe/Madrid
BEGIN:VEVENT
SUMMARY:La Rua de les Bombolles
DTSTART;VALUE=DATE:20190602
DTEND;VALUE=DATE:20190603
DTSTAMP;VALUE=DATE-TIME:20260423T124457Z
UID:b334dfc404254f5496bb5009144c79f9@www.molletvalles.cat
CATEGORIES:Música\, cinema i espectacles
CREATED;VALUE=DATE-TIME:20190523T112819Z
LAST-MODIFIED;VALUE=DATE-TIME:20221222T040328Z
LOCATION:Parc de les Pruneres
URL:https://www.molletvalles.cat/ca/actualitat/agenda/20903
END:VEVENT
END:VCALENDAR
