BEGIN:VCALENDAR
VERSION:2.0
PRODID:-//Plone.org//NONSGML plone.app.event//EN
X-WR-TIMEZONE:Europe/Madrid
BEGIN:VEVENT
SUMMARY:Concert de fi de curs de l’Associació Musical Pau Casals
DTSTART;VALUE=DATE:20190629
DTEND;VALUE=DATE:20190630
DTSTAMP;VALUE=DATE-TIME:20260423T124458Z
UID:b6f13bd3ead54474a1065599c34b1c24@www.molletvalles.cat
CATEGORIES:Música\, cinema i espectacles
CREATED;VALUE=DATE-TIME:20190606T104250Z
LAST-MODIFIED;VALUE=DATE-TIME:20221222T040517Z
LOCATION:Pl. Major
URL:https://www.molletvalles.cat/ca/actualitat/agenda/20933
END:VEVENT
END:VCALENDAR
