BEGIN:VCALENDAR
VERSION:2.0
PRODID:-//Plone.org//NONSGML plone.app.event//EN
X-WR-TIMEZONE:Europe/Madrid
BEGIN:VEVENT
SUMMARY:Festa Major 2019: Cercavila oberta al poble- Vine a obrir boca amb
  la colla Morada!
DTSTART;VALUE=DATE:20190812
DTEND;VALUE=DATE:20190813
DTSTAMP;VALUE=DATE-TIME:20260425T124252Z
UID:64b29a0e3827439b8926c6fd390c3dca@www.molletvalles.cat
CATEGORIES:Festes populars
CREATED;VALUE=DATE-TIME:20190710T084706Z
LAST-MODIFIED;VALUE=DATE-TIME:20221222T040930Z
LOCATION:Plaça Prat de la Riba
URL:https://www.molletvalles.cat/ca/actualitat/agenda/20990
END:VEVENT
END:VCALENDAR
