BEGIN:VCALENDAR
VERSION:2.0
PRODID:-//Plone.org//NONSGML plone.app.event//EN
X-WR-TIMEZONE:Europe/Madrid
BEGIN:VEVENT
SUMMARY:Festa Major 2019: Nit dels grups locals
DTSTART;VALUE=DATE:20190815
DTEND;VALUE=DATE:20190816
DTSTAMP;VALUE=DATE-TIME:20260423T133615Z
UID:ddef21fa76064f12b22274901981d829@www.molletvalles.cat
CATEGORIES:Festes populars
CREATED;VALUE=DATE-TIME:20190712T103154Z
LAST-MODIFIED;VALUE=DATE-TIME:20221222T041226Z
LOCATION:Parc de Les Pruneres
URL:https://www.molletvalles.cat/ca/actualitat/agenda/21025
END:VEVENT
END:VCALENDAR
