BEGIN:VCALENDAR
VERSION:2.0
PRODID:-//Plone.org//NONSGML plone.app.event//EN
X-WR-TIMEZONE:Europe/Madrid
BEGIN:VEVENT
SUMMARY:Festa Major 2019: Capta de sang
DTSTART;VALUE=DATE:20190817
DTEND;VALUE=DATE:20190818
DTSTAMP;VALUE=DATE-TIME:20260423T124712Z
UID:7e9cf66325854c588deb256cf6f919bf@www.molletvalles.cat
CATEGORIES:Actes diversos
CREATED;VALUE=DATE-TIME:20190715T073405Z
LAST-MODIFIED;VALUE=DATE-TIME:20221222T041328Z
URL:https://www.molletvalles.cat/ca/actualitat/agenda/21038
END:VEVENT
END:VCALENDAR
