BEGIN:VCALENDAR
VERSION:2.0
PRODID:-//Plone.org//NONSGML plone.app.event//EN
X-WR-TIMEZONE:Europe/Madrid
BEGIN:VEVENT
SUMMARY:Festa Major 2019: Arrebossa't - Guerra de bombardes de farina i po
 ls de color i remullada
DTSTART;VALUE=DATE:20190817
DTEND;VALUE=DATE:20190818
DTSTAMP;VALUE=DATE-TIME:20260423T124744Z
UID:b406e2558c5b4f5283c54458bf8b736b@www.molletvalles.cat
CATEGORIES:Festes populars
CREATED;VALUE=DATE-TIME:20190715T082708Z
LAST-MODIFIED;VALUE=DATE-TIME:20221222T041345Z
LOCATION:Plaça Pau Casals
URL:https://www.molletvalles.cat/ca/actualitat/agenda/21041
END:VEVENT
END:VCALENDAR
