BEGIN:VCALENDAR
VERSION:2.0
PRODID:-//Plone.org//NONSGML plone.app.event//EN
X-WR-TIMEZONE:Europe/Madrid
BEGIN:VEVENT
SUMMARY:Festa Major 2019: Futbol - Trofeu Ciutat de Mollet - CF Mollet UE 
 - Gramenet UD At."A"
DTSTART;VALUE=DATE:20190817
DTEND;VALUE=DATE:20190818
DTSTAMP;VALUE=DATE-TIME:20260423T124543Z
UID:4e65e2379e3b4484a53ee0026a845664@www.molletvalles.cat
CATEGORIES:Esports
CREATED;VALUE=DATE-TIME:20190715T111909Z
LAST-MODIFIED;VALUE=DATE-TIME:20221222T041421Z
URL:https://www.molletvalles.cat/ca/actualitat/agenda/21048
END:VEVENT
END:VCALENDAR
