BEGIN:VCALENDAR
VERSION:2.0
PRODID:-//Plone.org//NONSGML plone.app.event//EN
X-WR-TIMEZONE:Europe/Madrid
BEGIN:VEVENT
SUMMARY:Festa Major 2019: Nomenament del Morat i Torrat d'Honor 2019
DTSTART;VALUE=DATE:20190817
DTEND;VALUE=DATE:20190818
DTSTAMP;VALUE=DATE-TIME:20260423T124744Z
UID:838ded4b93b34745a65f0ddd535db44c@www.molletvalles.cat
CATEGORIES:Festes populars
CREATED;VALUE=DATE-TIME:20190716T065250Z
LAST-MODIFIED;VALUE=DATE-TIME:20221222T041458Z
LOCATION:Plaça Prat de la Riba
URL:https://www.molletvalles.cat/ca/actualitat/agenda/21055
END:VEVENT
END:VCALENDAR
